BEGIN:VCALENDAR
VERSION:2.0
PRODID:-//Broadwas and Cotheridge Parish Council - ECPv6.15.18//NONSGML v1.0//EN
CALSCALE:GREGORIAN
METHOD:PUBLISH
X-WR-CALNAME:Broadwas and Cotheridge Parish Council
X-ORIGINAL-URL:https://broadwascotheridge-pc.gov.uk
X-WR-CALDESC:Events for Broadwas and Cotheridge Parish Council
REFRESH-INTERVAL;VALUE=DURATION:PT1H
X-Robots-Tag:noindex
X-PUBLISHED-TTL:PT1H
BEGIN:VTIMEZONE
TZID:Europe/London
BEGIN:DAYLIGHT
TZOFFSETFROM:+0000
TZOFFSETTO:+0100
TZNAME:BST
DTSTART:20250330T010000
END:DAYLIGHT
BEGIN:STANDARD
TZOFFSETFROM:+0100
TZOFFSETTO:+0000
TZNAME:GMT
DTSTART:20251026T010000
END:STANDARD
BEGIN:DAYLIGHT
TZOFFSETFROM:+0000
TZOFFSETTO:+0100
TZNAME:BST
DTSTART:20260329T010000
END:DAYLIGHT
BEGIN:STANDARD
TZOFFSETFROM:+0100
TZOFFSETTO:+0000
TZNAME:GMT
DTSTART:20261025T010000
END:STANDARD
BEGIN:DAYLIGHT
TZOFFSETFROM:+0000
TZOFFSETTO:+0100
TZNAME:BST
DTSTART:20270328T010000
END:DAYLIGHT
BEGIN:STANDARD
TZOFFSETFROM:+0100
TZOFFSETTO:+0000
TZNAME:GMT
DTSTART:20271031T010000
END:STANDARD
END:VTIMEZONE
BEGIN:VEVENT
DTSTART;TZID=Europe/London:20260211T190000
DTEND;TZID=Europe/London:20260211T190000
DTSTAMP:20260423T102450
CREATED:20260123T145806Z
LAST-MODIFIED:20260220T113536Z
UID:4776-1770836400-1770836400@broadwascotheridge-pc.gov.uk
SUMMARY:Meeting of the Council 11th February
DESCRIPTION:This meeting will be held at Broadwas Village Hall. Members of the public are welcome to attend\, please see the agenda for meeting details.
URL:https://broadwascotheridge-pc.gov.uk/event/meeting-of-the-council-11th-february
LOCATION:Broadwas Village Hall
CATEGORIES:Parish Council Meetings
END:VEVENT
END:VCALENDAR