BEGIN:VCALENDAR
VERSION:2.0
PRODID:-//Broadwas and Cotheridge Parish Council - ECPv6.15.20//NONSGML v1.0//EN
CALSCALE:GREGORIAN
METHOD:PUBLISH
X-ORIGINAL-URL:https://broadwascotheridge-pc.gov.uk
X-WR-CALDESC:Events for Broadwas and Cotheridge Parish Council
REFRESH-INTERVAL;VALUE=DURATION:PT1H
X-Robots-Tag:noindex
X-PUBLISHED-TTL:PT1H
BEGIN:VTIMEZONE
TZID:Europe/London
BEGIN:DAYLIGHT
TZOFFSETFROM:+0000
TZOFFSETTO:+0100
TZNAME:BST
DTSTART:20240331T010000
END:DAYLIGHT
BEGIN:STANDARD
TZOFFSETFROM:+0100
TZOFFSETTO:+0000
TZNAME:GMT
DTSTART:20241027T010000
END:STANDARD
BEGIN:DAYLIGHT
TZOFFSETFROM:+0000
TZOFFSETTO:+0100
TZNAME:BST
DTSTART:20250330T010000
END:DAYLIGHT
BEGIN:STANDARD
TZOFFSETFROM:+0100
TZOFFSETTO:+0000
TZNAME:GMT
DTSTART:20251026T010000
END:STANDARD
BEGIN:DAYLIGHT
TZOFFSETFROM:+0000
TZOFFSETTO:+0100
TZNAME:BST
DTSTART:20260329T010000
END:DAYLIGHT
BEGIN:STANDARD
TZOFFSETFROM:+0100
TZOFFSETTO:+0000
TZNAME:GMT
DTSTART:20261025T010000
END:STANDARD
END:VTIMEZONE
BEGIN:VEVENT
DTSTART;TZID=Europe/London:20251105T190000
DTEND;TZID=Europe/London:20251105T190000
DTSTAMP:20260425T123432
CREATED:20251103T113950Z
LAST-MODIFIED:20251121T163534Z
UID:4517-1762369200-1762369200@broadwascotheridge-pc.gov.uk
SUMMARY:Meeting of the Council 5th November
DESCRIPTION:This meeting will be held at Broadwas Village Hall. Members of the public are welcome to attend\, please see the agenda for meeting details.
URL:https://broadwascotheridge-pc.gov.uk/event/meeting-of-the-council-5th-november
LOCATION:St Leonard’s Church\, Cotheridge\, WR6 5LZ\, United Kingdom
CATEGORIES:Parish Council Meetings
END:VEVENT
END:VCALENDAR